BEGIN:VCALENDAR
VERSION:2.0
PRODID:-//wp-events-plugin.com//6.6.4.4//EN
TZID:Europe/Amsterdam
X-WR-TIMEZONE:Europe/Amsterdam
BEGIN:VEVENT
UID:2@kennemerjeugdorkest.nl
DTSTART;TZID=Europe/Amsterdam:20170929T170000
DTEND;TZID=Europe/Amsterdam:20170929T220000
DTSTAMP:20181220T141413Z
URL:https://www.kennemerjeugdorkest.nl/agenda/besloten-concert-provinciale
 -staten/
SUMMARY:Besloten concert Provinciale Staten 2017
DESCRIPTION:Conform traditie is ook komend jaar het Provincieconcert het ee
 rste concert van het seizoen. Deze keer valt het Provincieconcert bijzonde
 r vroeg\, dus we willen effectief met de repetities aan de gang vanaf 1 se
 ptember! 8 September spelen alle strijkers hun partijen voor\, zodat we ev
 entueel nog gerichte adviezen kunnen geven. Zo maken we dit concert met el
 kaar tot een succes! Aan het concert nemen Alain Clark en zijn vader deel\
 , evenals opnieuw pianist Ramon van Engelenhoven\, solist bij het Voorjaar
 sconcert.
CATEGORIES:Concerten
END:VEVENT
BEGIN:VTIMEZONE
TZID:Europe/Amsterdam
X-LIC-LOCATION:Europe/Amsterdam
BEGIN:DAYLIGHT
DTSTART:20170326T030000
TZOFFSETFROM:+0100
TZOFFSETTO:+0200
TZNAME:CEST
END:DAYLIGHT
END:VTIMEZONE
END:VCALENDAR