BEGIN:VCALENDAR
VERSION:2.0
PRODID:-//wp-events-plugin.com//6.6.4.4//EN
TZID:Europe/Amsterdam
X-WR-TIMEZONE:Europe/Amsterdam
BEGIN:VEVENT
UID:90@kennemerjeugdorkest.nl
DTSTART;TZID=Europe/Amsterdam:20260504T203000
DTEND;TZID=Europe/Amsterdam:20260504T220000
DTSTAMP:20260329T085911Z
URL:https://www.kennemerjeugdorkest.nl/agenda/herdenking-2026/
SUMMARY:Herdenking 2026
DESCRIPTION:Het Kennemer Jeugd Orkest speelt traditiegetrouw het Herdenking
 sconcert onder leiding van dirigent Christiaan Kuyvenhoven.
ATTACH;FMTTYPE=image/jpeg:https://www.kennemerjeugdorkest.nl/app/uploads/2
 026/03/54513173097_3b02d9b9c7_o-1.jpg
CATEGORIES:Concerten
LOCATION:Haarlemmer Hout\, Hertenkamplaan 19\, Haarlem\, Noord Holland\, 20
 12CV\, Randstad\, Nederland
GEO:52.370287344962435;4.63015165501713
X-APPLE-STRUCTURED-LOCATION;VALUE=URI;X-ADDRESS=Hertenkamplaan 19\, Haarlem
 \, Noord Holland\, 2012CV\, Randstad\, Nederland;X-APPLE-RADIUS=100;X-TITL
 E=Haarlemmer Hout:geo:52.370287344962435,4.63015165501713
END:VEVENT
BEGIN:VTIMEZONE
TZID:Europe/Amsterdam
X-LIC-LOCATION:Europe/Amsterdam
BEGIN:DAYLIGHT
DTSTART:20260329T030000
TZOFFSETFROM:+0100
TZOFFSETTO:+0200
TZNAME:CEST
END:DAYLIGHT
END:VTIMEZONE
END:VCALENDAR