BEGIN:VCALENDAR
VERSION:2.0
PRODID:-//wp-events-plugin.com//6.6.4.4//EN
TZID:Europe/Amsterdam
X-WR-TIMEZONE:Europe/Amsterdam
BEGIN:VEVENT
UID:79@kennemerjeugdorkest.nl
DTSTART;TZID=Europe/Amsterdam:20241117T153000
DTEND;TZID=Europe/Amsterdam:20241117T163000
DTSTAMP:20241021T103519Z
URL:https://www.kennemerjeugdorkest.nl/agenda/kjo-najaarsconcert-2024/
SUMMARY:Najaarsconcert 2024
DESCRIPTION:[et_pb_section fb_built="1" _builder_version="4.16" global_colo
 rs_info="{}"][et_pb_row _builder_version="4.16" background_size="initial" 
 background_position="top_left" background_repeat="repeat" global_colors_in
 fo="{}"][et_pb_column type="4_4" _builder_version="4.16" custom_padding="|
 ||" global_colors_info="{}" custom_padding__hover="|||"][et_pb_text _build
 er_version="4.20.4" background_size="initial" background_position="top_lef
 t" background_repeat="repeat" hover_enabled="0" global_colors_info="{}" _m
 odule_preset="default" sticky_enabled="0"]Tickets zijn nu online verkrijgb
 aar: TICKET KOPEN\nNota bene: Stichting Hofje Codde en Van Beresteyn heef
 t zeer genereus 35 vrijkaarten beschikbaar gesteld voor 65-plussers ui
 t Kennemerland en hun mantelzorgers: bij interesse kan men mailen naar s
 ecretariskjo@gmail.com\n\nChristiaan Kuyvenhovens debuut als kersverse dir
 igent van het KJO wilt u niet missen!\nOp zondag 17 november vanaf 15:30 s
 peelt het KJO een boeiend en veelzijdig programma in de sfeervolle concert
 zaal van de Doopsgezinde Kerk in Haarlem:\n\n	K. Jenkins Palladio - I. All
 egretto\n	W. A. Mozart Divertimento in Es\, K113\n	L. v. Beethoven Contrad
 ansen 1\, 2\, 3\, 6\, 7\, 12\n	E. Elgar Chanson de nuit\, Op.15 Nr.1\n	Cha
 nson de matin\, Op.15 Nr.2\n	G. Bizet Carmen Suite nr. 1\n[/et_pb_text][/e
 t_pb_column][/et_pb_row][/et_pb_section]
ATTACH;FMTTYPE=image/jpeg:https://www.kennemerjeugdorkest.nl/app/uploads/2
 024/05/KJO-2024-najaar-flyer.jpg
CATEGORIES:Concerten
LOCATION:Doopsgezinde Kerk\, Frankestraat 24\, Haarlem\, Nederland
GEO:52.379422;4.635193
X-APPLE-STRUCTURED-LOCATION;VALUE=URI;X-ADDRESS=Frankestraat 24\, Haarlem\,
  Nederland;X-APPLE-RADIUS=100;X-TITLE=Doopsgezinde Kerk:geo:52.379422,4.63
 5193
END:VEVENT
BEGIN:VTIMEZONE
TZID:Europe/Amsterdam
X-LIC-LOCATION:Europe/Amsterdam
BEGIN:STANDARD
DTSTART:20241027T020000
TZOFFSETFROM:+0200
TZOFFSETTO:+0100
TZNAME:CET
END:STANDARD
END:VTIMEZONE
END:VCALENDAR