BEGIN:VCALENDAR
VERSION:2.0
PRODID:-//wp-events-plugin.com//6.6.4.4//EN
TZID:Europe/Amsterdam
X-WR-TIMEZONE:Europe/Amsterdam
BEGIN:VEVENT
UID:78@kennemerjeugdorkest.nl
DTSTART;TZID=Europe/Amsterdam;VALUE=DATE:20240428
DTEND;TZID=Europe/Amsterdam;VALUE=DATE:20240502
DTSTAMP:20240404T070657Z
URL:https://www.kennemerjeugdorkest.nl/agenda/kjo-orkestreis-2024/
SUMMARY:KJO Orkestreis 2024
DESCRIPTION:Tijdens de tournee van 2024 zal het KJO per viermaster op het I
 Jsselmeer verschillende havensteden bezoeken en daar concerten geven!\nOp 
 zondag 28 april gooien we de trossen los in Kampen en varen we naar Medemb
 lik. Daar wordt een concert gegeven in de Bonifaciuskerk om 20:00. De volg
 ende dag zetten we de reis voort naar Texel\, om in De Burght een concert 
 te geven om 20:00. Op woensdag 1 mei zetten we koers naar Enkhuizen\, waar
 bij het orkest al spelend op het dek de haven zal binnenvaren en een afslu
 itend concert zal geven in de prachtige Zuiderkerk om 15:30.  \n\nOp het p
 rogramma staan werken van Bizet\, Mascagni\, Schubert\, Mahler\, Boieldieu
 \, Elgar\, en filmmuziek van Pirates of the Caribbean en James Bond!\n\nDe
 ze tournee wordt mede mogelijk gemaakt met ondersteuning van het VSBfonds.
  
ATTACH;FMTTYPE=image/jpeg:https://www.kennemerjeugdorkest.nl/app/uploads/2
 024/04/KJO-2024-IJsselmeer-scaled.jpg
CATEGORIES:Concerten
END:VEVENT
BEGIN:VTIMEZONE
TZID:Europe/Amsterdam
X-LIC-LOCATION:Europe/Amsterdam
BEGIN:DAYLIGHT
DTSTART:20240331T030000
TZOFFSETFROM:+0100
TZOFFSETTO:+0200
TZNAME:CEST
END:DAYLIGHT
END:VTIMEZONE
END:VCALENDAR