BEGIN:VCALENDAR
VERSION:2.0
PRODID:-//wp-events-plugin.com//6.6.4.4//EN
TZID:Europe/Amsterdam
X-WR-TIMEZONE:Europe/Amsterdam
BEGIN:VEVENT
UID:91@kennemerjeugdorkest.nl
DTSTART;TZID=Europe/Amsterdam:20260705T150000
DTEND;TZID=Europe/Amsterdam:20260705T170000
DTSTAMP:20260329T093636Z
URL:https://www.kennemerjeugdorkest.nl/agenda/spaarnestad-concert-2026/
SUMMARY:Spaarnestad Concert 2026
DESCRIPTION:Traditiegetrouw speelt het Kennemer Jeugd Orkest\, o.l.v. dirig
 ent Christiaan Kuyvenhoven\, het hoofdprogramma tijdens het Spaarnestad Co
 ncert\, op zondag 5 juli vanaf 15:00.\n\nMeer details over het programma v
 olgen nog.\n\nDe bootjes en het publiek aan de wal zullen er zeker weer vr
 olijk op mee kunnen deinen!\nHet Spaarnestad Concert is een jaarlijks hoog
 tepunt in het muziekleven van Haarlem op de vertrouwde locatie aan de Bake
 nessergracht.
ATTACH;FMTTYPE=image/jpeg:https://www.kennemerjeugdorkest.nl/app/uploads/2
 026/03/54639888215_b14ac3093a_o.jpg
CATEGORIES:Concerten
LOCATION:Bakenessergracht\, Bakenessergracht\, Haarlem\, Noord-Holland\, Ne
 derland
GEO:52.38214;4.64026
X-APPLE-STRUCTURED-LOCATION;VALUE=URI;X-ADDRESS=Bakenessergracht\, Haarlem\
 , Noord-Holland\, Nederland;X-APPLE-RADIUS=100;X-TITLE=Bakenessergracht:ge
 o:52.38214,4.64026
END:VEVENT
BEGIN:VTIMEZONE
TZID:Europe/Amsterdam
X-LIC-LOCATION:Europe/Amsterdam
BEGIN:DAYLIGHT
DTSTART:20260329T030000
TZOFFSETFROM:+0100
TZOFFSETTO:+0200
TZNAME:CEST
END:DAYLIGHT
END:VTIMEZONE
END:VCALENDAR