BEGIN:VCALENDAR
VERSION:2.0
PRODID:-//wp-events-plugin.com//6.6.4.4//EN
TZID:Europe/Amsterdam
X-WR-TIMEZONE:Europe/Amsterdam
BEGIN:VEVENT
UID:68@kennemerjeugdorkest.nl
DTSTART;TZID=Europe/Amsterdam:20230701T200000
DTEND;TZID=Europe/Amsterdam:20230701T220000
DTSTAMP:20241003T072148Z
URL:https://www.kennemerjeugdorkest.nl/agenda/spaarnestad-concert/
SUMMARY:Spaarnestad Concert
DESCRIPTION:Het KJO o.l.v. Matthijs Broers treedt weer op tijdens het jaarl
 ijkse Spaarnestadconcert op zaterdag 1 juli vanaf 20:00!\nDit openluchtcon
 cert wordt traditiegetrouw gegeven op de Bakenessergracht in Haarlem waarb
 ij iedereen welkom is om op straat of in bootjes in de gracht te komen gen
 ieten van het sfeervolle repertoire. Bij deze editie zal het KJO opera ari
 a's begeleiden die worden gezongen door sopraan Donij van Doorn en natuurl
 ijk zal het Lennaert Nijgh repertoire ook dit jaar niet ontbreken\, gezong
 en door Astrid Nijgh.\nToegang op de kade is gratis en een plekje voor een
  boot kan hier worden gereserveerd: https://spaarnestadconcert.nl/
ATTACH;FMTTYPE=image/jpeg:https://www.kennemerjeugdorkest.nl/app/uploads/2
 022/11/52314431708_dc463457f6_o-scaled.jpg
CATEGORIES:Concerten
LOCATION:Bakenessergracht\, Bakenessergracht\, Haarlem\, Noord-Holland\, Ne
 derland
GEO:52.38214;4.64026
X-APPLE-STRUCTURED-LOCATION;VALUE=URI;X-ADDRESS=Bakenessergracht\, Haarlem\
 , Noord-Holland\, Nederland;X-APPLE-RADIUS=100;X-TITLE=Bakenessergracht:ge
 o:52.38214,4.64026
END:VEVENT
BEGIN:VTIMEZONE
TZID:Europe/Amsterdam
X-LIC-LOCATION:Europe/Amsterdam
BEGIN:DAYLIGHT
DTSTART:20230326T030000
TZOFFSETFROM:+0100
TZOFFSETTO:+0200
TZNAME:CEST
END:DAYLIGHT
END:VTIMEZONE
END:VCALENDAR